BEGIN:VCALENDAR
VERSION:2.0
PRODID:-//Staten Island Children&#039;s Museum - ECPv6.15.20//NONSGML v1.0//EN
CALSCALE:GREGORIAN
METHOD:PUBLISH
X-WR-CALNAME:Staten Island Children&#039;s Museum
X-ORIGINAL-URL:https://sichildrensmuseum.org
X-WR-CALDESC:Events for Staten Island Children&#039;s Museum
REFRESH-INTERVAL;VALUE=DURATION:PT1H
X-Robots-Tag:noindex
X-PUBLISHED-TTL:PT1H
BEGIN:VTIMEZONE
TZID:America/New_York
BEGIN:DAYLIGHT
TZOFFSETFROM:-0500
TZOFFSETTO:-0400
TZNAME:EDT
DTSTART:20250309T070000
END:DAYLIGHT
BEGIN:STANDARD
TZOFFSETFROM:-0400
TZOFFSETTO:-0500
TZNAME:EST
DTSTART:20251102T060000
END:STANDARD
BEGIN:DAYLIGHT
TZOFFSETFROM:-0500
TZOFFSETTO:-0400
TZNAME:EDT
DTSTART:20260308T070000
END:DAYLIGHT
BEGIN:STANDARD
TZOFFSETFROM:-0400
TZOFFSETTO:-0500
TZNAME:EST
DTSTART:20261101T060000
END:STANDARD
BEGIN:DAYLIGHT
TZOFFSETFROM:-0500
TZOFFSETTO:-0400
TZNAME:EDT
DTSTART:20270314T070000
END:DAYLIGHT
BEGIN:STANDARD
TZOFFSETFROM:-0400
TZOFFSETTO:-0500
TZNAME:EST
DTSTART:20271107T060000
END:STANDARD
END:VTIMEZONE
BEGIN:VEVENT
DTSTART;TZID=America/New_York:20260501T130000
DTEND;TZID=America/New_York:20260501T160000
DTSTAMP:20260424T044722
CREATED:20260414T183305Z
LAST-MODIFIED:20260414T183427Z
UID:9218-1777640400-1777651200@sichildrensmuseum.org
SUMMARY:Walk-In! Workshop: Ripped Paper Mosaics
DESCRIPTION:[vc_row][vc_column width=”2/3″][vc_column_text css=””]Kids will take part in one of the longest-lasting artistic traditions with this month’s hands-on workshop! All sorts of cultures throughout history have made mosaics that remain beautifully preserved to this day\, and this project encourages young artists to take inspiration and make their own mosaics out of ripped paper.[/vc_column_text][/vc_column][vc_column width=”1/3″][vc_single_image source=”featured_image” img_size=”full”][/vc_column][/vc_row]
URL:https://sichildrensmuseum.org/event/walk-in-workshop-ripped-paper-mosaics/2026-05-01/
CATEGORIES:art,Art-Making,crafts,Event for Kids
ATTACH;FMTTYPE=image/png:https://sichildrensmuseum.org/wp-content/uploads/2026/04/mosaics-rhombus.png
ORGANIZER;CN="Staten Island Children's Museum":MAILTO:info@sichildrensmuseum.org
END:VEVENT
BEGIN:VEVENT
DTSTART;TZID=America/New_York:20260506T130000
DTEND;TZID=America/New_York:20260506T160000
DTSTAMP:20260424T044722
CREATED:20260414T183305Z
LAST-MODIFIED:20260414T183427Z
UID:9220-1778072400-1778083200@sichildrensmuseum.org
SUMMARY:Walk-In! Workshop: Ripped Paper Mosaics
DESCRIPTION:[vc_row][vc_column width=”2/3″][vc_column_text css=””]Kids will take part in one of the longest-lasting artistic traditions with this month’s hands-on workshop! All sorts of cultures throughout history have made mosaics that remain beautifully preserved to this day\, and this project encourages young artists to take inspiration and make their own mosaics out of ripped paper.[/vc_column_text][/vc_column][vc_column width=”1/3″][vc_single_image source=”featured_image” img_size=”full”][/vc_column][/vc_row]
URL:https://sichildrensmuseum.org/event/walk-in-workshop-ripped-paper-mosaics/2026-05-06/
CATEGORIES:art,Art-Making,crafts,Event for Kids
ATTACH;FMTTYPE=image/png:https://sichildrensmuseum.org/wp-content/uploads/2026/04/mosaics-rhombus.png
ORGANIZER;CN="Staten Island Children's Museum":MAILTO:info@sichildrensmuseum.org
END:VEVENT
BEGIN:VEVENT
DTSTART;TZID=America/New_York:20260507T130000
DTEND;TZID=America/New_York:20260507T160000
DTSTAMP:20260424T044722
CREATED:20260414T183305Z
LAST-MODIFIED:20260414T183428Z
UID:9221-1778158800-1778169600@sichildrensmuseum.org
SUMMARY:Walk-In! Workshop: Ripped Paper Mosaics
DESCRIPTION:[vc_row][vc_column width=”2/3″][vc_column_text css=””]Kids will take part in one of the longest-lasting artistic traditions with this month’s hands-on workshop! All sorts of cultures throughout history have made mosaics that remain beautifully preserved to this day\, and this project encourages young artists to take inspiration and make their own mosaics out of ripped paper.[/vc_column_text][/vc_column][vc_column width=”1/3″][vc_single_image source=”featured_image” img_size=”full”][/vc_column][/vc_row]
URL:https://sichildrensmuseum.org/event/walk-in-workshop-ripped-paper-mosaics/2026-05-07/
CATEGORIES:art,Art-Making,crafts,Event for Kids
ATTACH;FMTTYPE=image/png:https://sichildrensmuseum.org/wp-content/uploads/2026/04/mosaics-rhombus.png
ORGANIZER;CN="Staten Island Children's Museum":MAILTO:info@sichildrensmuseum.org
END:VEVENT
BEGIN:VEVENT
DTSTART;TZID=America/New_York:20260508T130000
DTEND;TZID=America/New_York:20260508T160000
DTSTAMP:20260424T044722
CREATED:20260414T183305Z
LAST-MODIFIED:20260414T183428Z
UID:9222-1778245200-1778256000@sichildrensmuseum.org
SUMMARY:Walk-In! Workshop: Ripped Paper Mosaics
DESCRIPTION:[vc_row][vc_column width=”2/3″][vc_column_text css=””]Kids will take part in one of the longest-lasting artistic traditions with this month’s hands-on workshop! All sorts of cultures throughout history have made mosaics that remain beautifully preserved to this day\, and this project encourages young artists to take inspiration and make their own mosaics out of ripped paper.[/vc_column_text][/vc_column][vc_column width=”1/3″][vc_single_image source=”featured_image” img_size=”full”][/vc_column][/vc_row]
URL:https://sichildrensmuseum.org/event/walk-in-workshop-ripped-paper-mosaics/2026-05-08/
CATEGORIES:art,Art-Making,crafts,Event for Kids
ATTACH;FMTTYPE=image/png:https://sichildrensmuseum.org/wp-content/uploads/2026/04/mosaics-rhombus.png
ORGANIZER;CN="Staten Island Children's Museum":MAILTO:info@sichildrensmuseum.org
END:VEVENT
BEGIN:VEVENT
DTSTART;TZID=America/New_York:20260513T130000
DTEND;TZID=America/New_York:20260513T160000
DTSTAMP:20260424T044722
CREATED:20260414T183305Z
LAST-MODIFIED:20260414T183428Z
UID:9223-1778677200-1778688000@sichildrensmuseum.org
SUMMARY:Walk-In! Workshop: Ripped Paper Mosaics
DESCRIPTION:[vc_row][vc_column width=”2/3″][vc_column_text css=””]Kids will take part in one of the longest-lasting artistic traditions with this month’s hands-on workshop! All sorts of cultures throughout history have made mosaics that remain beautifully preserved to this day\, and this project encourages young artists to take inspiration and make their own mosaics out of ripped paper.[/vc_column_text][/vc_column][vc_column width=”1/3″][vc_single_image source=”featured_image” img_size=”full”][/vc_column][/vc_row]
URL:https://sichildrensmuseum.org/event/walk-in-workshop-ripped-paper-mosaics/2026-05-13/
CATEGORIES:art,Art-Making,crafts,Event for Kids
ATTACH;FMTTYPE=image/png:https://sichildrensmuseum.org/wp-content/uploads/2026/04/mosaics-rhombus.png
ORGANIZER;CN="Staten Island Children's Museum":MAILTO:info@sichildrensmuseum.org
END:VEVENT
BEGIN:VEVENT
DTSTART;TZID=America/New_York:20260514T130000
DTEND;TZID=America/New_York:20260514T160000
DTSTAMP:20260424T044722
CREATED:20260414T183305Z
LAST-MODIFIED:20260414T183429Z
UID:9224-1778763600-1778774400@sichildrensmuseum.org
SUMMARY:Walk-In! Workshop: Ripped Paper Mosaics
DESCRIPTION:[vc_row][vc_column width=”2/3″][vc_column_text css=””]Kids will take part in one of the longest-lasting artistic traditions with this month’s hands-on workshop! All sorts of cultures throughout history have made mosaics that remain beautifully preserved to this day\, and this project encourages young artists to take inspiration and make their own mosaics out of ripped paper.[/vc_column_text][/vc_column][vc_column width=”1/3″][vc_single_image source=”featured_image” img_size=”full”][/vc_column][/vc_row]
URL:https://sichildrensmuseum.org/event/walk-in-workshop-ripped-paper-mosaics/2026-05-14/
CATEGORIES:art,Art-Making,crafts,Event for Kids
ATTACH;FMTTYPE=image/png:https://sichildrensmuseum.org/wp-content/uploads/2026/04/mosaics-rhombus.png
ORGANIZER;CN="Staten Island Children's Museum":MAILTO:info@sichildrensmuseum.org
END:VEVENT
BEGIN:VEVENT
DTSTART;TZID=America/New_York:20260515T130000
DTEND;TZID=America/New_York:20260515T160000
DTSTAMP:20260424T044722
CREATED:20260414T183305Z
LAST-MODIFIED:20260414T183429Z
UID:9225-1778850000-1778860800@sichildrensmuseum.org
SUMMARY:Walk-In! Workshop: Ripped Paper Mosaics
DESCRIPTION:[vc_row][vc_column width=”2/3″][vc_column_text css=””]Kids will take part in one of the longest-lasting artistic traditions with this month’s hands-on workshop! All sorts of cultures throughout history have made mosaics that remain beautifully preserved to this day\, and this project encourages young artists to take inspiration and make their own mosaics out of ripped paper.[/vc_column_text][/vc_column][vc_column width=”1/3″][vc_single_image source=”featured_image” img_size=”full”][/vc_column][/vc_row]
URL:https://sichildrensmuseum.org/event/walk-in-workshop-ripped-paper-mosaics/2026-05-15/
CATEGORIES:art,Art-Making,crafts,Event for Kids
ATTACH;FMTTYPE=image/png:https://sichildrensmuseum.org/wp-content/uploads/2026/04/mosaics-rhombus.png
ORGANIZER;CN="Staten Island Children's Museum":MAILTO:info@sichildrensmuseum.org
END:VEVENT
BEGIN:VEVENT
DTSTART;TZID=America/New_York:20260520T130000
DTEND;TZID=America/New_York:20260520T160000
DTSTAMP:20260424T044722
CREATED:20260414T183305Z
LAST-MODIFIED:20260414T183429Z
UID:9226-1779282000-1779292800@sichildrensmuseum.org
SUMMARY:Walk-In! Workshop: Ripped Paper Mosaics
DESCRIPTION:[vc_row][vc_column width=”2/3″][vc_column_text css=””]Kids will take part in one of the longest-lasting artistic traditions with this month’s hands-on workshop! All sorts of cultures throughout history have made mosaics that remain beautifully preserved to this day\, and this project encourages young artists to take inspiration and make their own mosaics out of ripped paper.[/vc_column_text][/vc_column][vc_column width=”1/3″][vc_single_image source=”featured_image” img_size=”full”][/vc_column][/vc_row]
URL:https://sichildrensmuseum.org/event/walk-in-workshop-ripped-paper-mosaics/2026-05-20/
CATEGORIES:art,Art-Making,crafts,Event for Kids
ATTACH;FMTTYPE=image/png:https://sichildrensmuseum.org/wp-content/uploads/2026/04/mosaics-rhombus.png
ORGANIZER;CN="Staten Island Children's Museum":MAILTO:info@sichildrensmuseum.org
END:VEVENT
BEGIN:VEVENT
DTSTART;TZID=America/New_York:20260521T130000
DTEND;TZID=America/New_York:20260521T160000
DTSTAMP:20260424T044722
CREATED:20260414T183305Z
LAST-MODIFIED:20260414T183430Z
UID:9227-1779368400-1779379200@sichildrensmuseum.org
SUMMARY:Walk-In! Workshop: Ripped Paper Mosaics
DESCRIPTION:[vc_row][vc_column width=”2/3″][vc_column_text css=””]Kids will take part in one of the longest-lasting artistic traditions with this month’s hands-on workshop! All sorts of cultures throughout history have made mosaics that remain beautifully preserved to this day\, and this project encourages young artists to take inspiration and make their own mosaics out of ripped paper.[/vc_column_text][/vc_column][vc_column width=”1/3″][vc_single_image source=”featured_image” img_size=”full”][/vc_column][/vc_row]
URL:https://sichildrensmuseum.org/event/walk-in-workshop-ripped-paper-mosaics/2026-05-21/
CATEGORIES:art,Art-Making,crafts,Event for Kids
ATTACH;FMTTYPE=image/png:https://sichildrensmuseum.org/wp-content/uploads/2026/04/mosaics-rhombus.png
ORGANIZER;CN="Staten Island Children's Museum":MAILTO:info@sichildrensmuseum.org
END:VEVENT
BEGIN:VEVENT
DTSTART;TZID=America/New_York:20260522T130000
DTEND;TZID=America/New_York:20260522T160000
DTSTAMP:20260424T044722
CREATED:20260414T183305Z
LAST-MODIFIED:20260414T183436Z
UID:9228-1779454800-1779465600@sichildrensmuseum.org
SUMMARY:Walk-In! Workshop: Ripped Paper Mosaics
DESCRIPTION:[vc_row][vc_column width=”2/3″][vc_column_text css=””]Kids will take part in one of the longest-lasting artistic traditions with this month’s hands-on workshop! All sorts of cultures throughout history have made mosaics that remain beautifully preserved to this day\, and this project encourages young artists to take inspiration and make their own mosaics out of ripped paper.[/vc_column_text][/vc_column][vc_column width=”1/3″][vc_single_image source=”featured_image” img_size=”full”][/vc_column][/vc_row]
URL:https://sichildrensmuseum.org/event/walk-in-workshop-ripped-paper-mosaics/2026-05-22/
CATEGORIES:art,Art-Making,crafts,Event for Kids
ATTACH;FMTTYPE=image/png:https://sichildrensmuseum.org/wp-content/uploads/2026/04/mosaics-rhombus.png
ORGANIZER;CN="Staten Island Children's Museum":MAILTO:info@sichildrensmuseum.org
END:VEVENT
BEGIN:VEVENT
DTSTART;TZID=America/New_York:20260528T130000
DTEND;TZID=America/New_York:20260528T160000
DTSTAMP:20260424T044722
CREATED:20260414T183305Z
LAST-MODIFIED:20260414T183436Z
UID:9231-1779973200-1779984000@sichildrensmuseum.org
SUMMARY:Walk-In! Workshop: Ripped Paper Mosaics
DESCRIPTION:[vc_row][vc_column width=”2/3″][vc_column_text css=””]Kids will take part in one of the longest-lasting artistic traditions with this month’s hands-on workshop! All sorts of cultures throughout history have made mosaics that remain beautifully preserved to this day\, and this project encourages young artists to take inspiration and make their own mosaics out of ripped paper.[/vc_column_text][/vc_column][vc_column width=”1/3″][vc_single_image source=”featured_image” img_size=”full”][/vc_column][/vc_row]
URL:https://sichildrensmuseum.org/event/walk-in-workshop-ripped-paper-mosaics/2026-05-28/
CATEGORIES:art,Art-Making,crafts,Event for Kids
ATTACH;FMTTYPE=image/png:https://sichildrensmuseum.org/wp-content/uploads/2026/04/mosaics-rhombus.png
ORGANIZER;CN="Staten Island Children's Museum":MAILTO:info@sichildrensmuseum.org
END:VEVENT
BEGIN:VEVENT
DTSTART;TZID=America/New_York:20260529T130000
DTEND;TZID=America/New_York:20260529T160000
DTSTAMP:20260424T044722
CREATED:20260414T183305Z
LAST-MODIFIED:20260414T183437Z
UID:9232-1780059600-1780070400@sichildrensmuseum.org
SUMMARY:Walk-In! Workshop: Ripped Paper Mosaics
DESCRIPTION:[vc_row][vc_column width=”2/3″][vc_column_text css=””]Kids will take part in one of the longest-lasting artistic traditions with this month’s hands-on workshop! All sorts of cultures throughout history have made mosaics that remain beautifully preserved to this day\, and this project encourages young artists to take inspiration and make their own mosaics out of ripped paper.[/vc_column_text][/vc_column][vc_column width=”1/3″][vc_single_image source=”featured_image” img_size=”full”][/vc_column][/vc_row]
URL:https://sichildrensmuseum.org/event/walk-in-workshop-ripped-paper-mosaics/2026-05-29/
CATEGORIES:art,Art-Making,crafts,Event for Kids
ATTACH;FMTTYPE=image/png:https://sichildrensmuseum.org/wp-content/uploads/2026/04/mosaics-rhombus.png
ORGANIZER;CN="Staten Island Children's Museum":MAILTO:info@sichildrensmuseum.org
END:VEVENT
END:VCALENDAR