BEGIN:VCALENDAR
VERSION:2.0
PRODID:-//Staten Island Children&#039;s Museum - ECPv6.15.20//NONSGML v1.0//EN
CALSCALE:GREGORIAN
METHOD:PUBLISH
X-ORIGINAL-URL:https://sichildrensmuseum.org
X-WR-CALDESC:Events for Staten Island Children&#039;s Museum
REFRESH-INTERVAL;VALUE=DURATION:PT1H
X-Robots-Tag:noindex
X-PUBLISHED-TTL:PT1H
BEGIN:VTIMEZONE
TZID:America/New_York
BEGIN:DAYLIGHT
TZOFFSETFROM:-0500
TZOFFSETTO:-0400
TZNAME:EDT
DTSTART:20250309T070000
END:DAYLIGHT
BEGIN:STANDARD
TZOFFSETFROM:-0400
TZOFFSETTO:-0500
TZNAME:EST
DTSTART:20251102T060000
END:STANDARD
BEGIN:DAYLIGHT
TZOFFSETFROM:-0500
TZOFFSETTO:-0400
TZNAME:EDT
DTSTART:20260308T070000
END:DAYLIGHT
BEGIN:STANDARD
TZOFFSETFROM:-0400
TZOFFSETTO:-0500
TZNAME:EST
DTSTART:20261101T060000
END:STANDARD
BEGIN:DAYLIGHT
TZOFFSETFROM:-0500
TZOFFSETTO:-0400
TZNAME:EDT
DTSTART:20270314T070000
END:DAYLIGHT
BEGIN:STANDARD
TZOFFSETFROM:-0400
TZOFFSETTO:-0500
TZNAME:EST
DTSTART:20271107T060000
END:STANDARD
END:VTIMEZONE
BEGIN:VEVENT
DTSTART;TZID=America/New_York:20260426T120000
DTEND;TZID=America/New_York:20260426T160000
DTSTAMP:20260421T044016
CREATED:20260226T162900Z
LAST-MODIFIED:20260226T163338Z
UID:9087-1777204800-1777219200@sichildrensmuseum.org
SUMMARY:Children's Business Fair
DESCRIPTION:[vc_row][vc_column width=”2/3″][vc_column_text css=””]Join us and guest host Faire & Flourish for an experience that will showcase the talents of young entrepreneurs. From handmade jewelry and colorful artwork to delicious baked treats and so much more\, come see the amazing creations these young entrepreneurs have dreamed up and brought to life! \nThrough Faire & Flourish’s monthly family-friendly market events on Staten Island\, we’re glad to participate in building a vibrant community that celebrates creativity\, imagination\, and entrepreneurship centered around aspiring young talent. \nVendors Wanted (Ages 5-15)\nApply at: www.flaireandflourish.com[/vc_column_text][/vc_column][vc_column width=”1/3″][vc_single_image source=”featured_image” img_size=”full”][/vc_column][/vc_row]
URL:https://sichildrensmuseum.org/event/childrens-business-fair/
LOCATION:Staten Island Children’s Museum\, 1000 Richmond Terrace\, Building M\, Staten Island\, NY\, 10301\, United States
CATEGORIES:art,Cooking,crafts,Event for Kids,STEAM
ATTACH;FMTTYPE=image/png:https://sichildrensmuseum.org/wp-content/uploads/2026/02/kids-fair-rhombus.png
GEO:40.644743798098;-74.102321811388
X-APPLE-STRUCTURED-LOCATION;VALUE=URI;X-ADDRESS=Staten Island Children’s Museum 1000 Richmond Terrace Building M Staten Island NY 10301 United States;X-APPLE-RADIUS=500;X-TITLE=1000 Richmond Terrace\, Building M:geo:-74.102321811388,40.644743798098
END:VEVENT
END:VCALENDAR