BEGIN:VCALENDAR
VERSION:2.0
PRODID:-//Staten Island Children&#039;s Museum - ECPv6.15.20//NONSGML v1.0//EN
CALSCALE:GREGORIAN
METHOD:PUBLISH
X-ORIGINAL-URL:https://sichildrensmuseum.org
X-WR-CALDESC:Events for Staten Island Children&#039;s Museum
REFRESH-INTERVAL;VALUE=DURATION:PT1H
X-Robots-Tag:noindex
X-PUBLISHED-TTL:PT1H
BEGIN:VTIMEZONE
TZID:America/New_York
BEGIN:DAYLIGHT
TZOFFSETFROM:-0500
TZOFFSETTO:-0400
TZNAME:EDT
DTSTART:20250309T070000
END:DAYLIGHT
BEGIN:STANDARD
TZOFFSETFROM:-0400
TZOFFSETTO:-0500
TZNAME:EST
DTSTART:20251102T060000
END:STANDARD
BEGIN:DAYLIGHT
TZOFFSETFROM:-0500
TZOFFSETTO:-0400
TZNAME:EDT
DTSTART:20260308T070000
END:DAYLIGHT
BEGIN:STANDARD
TZOFFSETFROM:-0400
TZOFFSETTO:-0500
TZNAME:EST
DTSTART:20261101T060000
END:STANDARD
BEGIN:DAYLIGHT
TZOFFSETFROM:-0500
TZOFFSETTO:-0400
TZNAME:EDT
DTSTART:20270314T070000
END:DAYLIGHT
BEGIN:STANDARD
TZOFFSETFROM:-0400
TZOFFSETTO:-0500
TZNAME:EST
DTSTART:20271107T060000
END:STANDARD
END:VTIMEZONE
BEGIN:VEVENT
DTSTART;TZID=America/New_York:20260425T160000
DTEND;TZID=America/New_York:20260425T164500
DTSTAMP:20260423T103134
CREATED:20260126T194148Z
LAST-MODIFIED:20260203T151534Z
UID:9008-1777132800-1777135500@sichildrensmuseum.org
SUMMARY:Kids Interactive Poetry
DESCRIPTION:[vc_row content_placement=”middle”][vc_column width=”2/3″][vc_column_text css=””] \n\nCelebrate poetry month with laughter\, creativity\, and hands-on poetry fun! Participants will explore and learn about poetry through learning stations using their imagination\, as well as their hands. Activities include rhyming\, building\, sharing\, and singing! \n\n\n  \nIncluded with admission. \n\n\n[/vc_column_text][vc_row_inner][vc_column_inner][vc_column_text]The Guest Artist Series is sponsored by[/vc_column_text][/vc_column_inner][/vc_row_inner][/vc_column][vc_column width=”1/3″][vc_single_image source=”featured_image” img_size=”full”][/vc_column][/vc_row][vc_row content_placement=”middle”][vc_column width=”1/4″][vc_single_image image=”7797″ img_size=”medium” onclick=”custom_link” css=”” link=”http://amazon.com”][/vc_column][vc_column width=”1/4″][vc_single_image image=”2706″ img_size=”medium” onclick=”custom_link” css=”” link=”https://esbna.com/”][/vc_column][vc_column width=”1/4″][vc_single_image image=”3987″ img_size=”medium” onclick=”custom_link” css=”” link=”https://generationbridge.com/”][/vc_column][vc_column width=”1/4″][vc_single_image image=”3905″ img_size=”medium” onclick=”custom_link” link=”https://www.nationalgridus.com/NY-Home/Default.aspx”][/vc_column][/vc_row][vc_row content_placement=”middle”][vc_column width=”1/3″][vc_single_image image=”3226″ img_size=”medium” onclick=”custom_link” css=”” link=”https://www.enorthfield.com”][/vc_column][vc_column width=”1/3″][vc_single_image image=”3225″ img_size=”medium” onclick=”custom_link” css=”” link=”https://www.ferry.nyc/”][/vc_column][vc_column width=”1/3″][vc_single_image image=”3559″ img_size=”medium” onclick=”custom_link” link=”https://www.td.com/us/en/about-us/communities/ready-commitment/funding-opportunities/td-charitable-foundation”][/vc_column][/vc_row]
URL:https://sichildrensmuseum.org/event/kids-interactive-poetry-5/
LOCATION:Staten Island Children’s Museum\, 1000 Richmond Terrace\, Building M\, Staten Island\, NY\, 10301\, United States
CATEGORIES:art,Art-Making,crafts,Engineering,Event for Kids,Family Friendly,literacy,Music,reading
ATTACH;FMTTYPE=image/png:https://sichildrensmuseum.org/wp-content/uploads/2025/02/KP-rhoumba.png
GEO:40.644743798098;-74.102321811388
X-APPLE-STRUCTURED-LOCATION;VALUE=URI;X-ADDRESS=Staten Island Children’s Museum 1000 Richmond Terrace Building M Staten Island NY 10301 United States;X-APPLE-RADIUS=500;X-TITLE=1000 Richmond Terrace\, Building M:geo:-74.102321811388,40.644743798098
END:VEVENT
END:VCALENDAR