BEGIN:VCALENDAR
VERSION:2.0
PRODID:-//Staten Island Children&#039;s Museum - ECPv6.15.20//NONSGML v1.0//EN
CALSCALE:GREGORIAN
METHOD:PUBLISH
X-WR-CALNAME:Staten Island Children&#039;s Museum
X-ORIGINAL-URL:https://sichildrensmuseum.org
X-WR-CALDESC:Events for Staten Island Children&#039;s Museum
REFRESH-INTERVAL;VALUE=DURATION:PT1H
X-Robots-Tag:noindex
X-PUBLISHED-TTL:PT1H
BEGIN:VTIMEZONE
TZID:America/New_York
BEGIN:DAYLIGHT
TZOFFSETFROM:-0500
TZOFFSETTO:-0400
TZNAME:EDT
DTSTART:20250309T070000
END:DAYLIGHT
BEGIN:STANDARD
TZOFFSETFROM:-0400
TZOFFSETTO:-0500
TZNAME:EST
DTSTART:20251102T060000
END:STANDARD
BEGIN:DAYLIGHT
TZOFFSETFROM:-0500
TZOFFSETTO:-0400
TZNAME:EDT
DTSTART:20260308T070000
END:DAYLIGHT
BEGIN:STANDARD
TZOFFSETFROM:-0400
TZOFFSETTO:-0500
TZNAME:EST
DTSTART:20261101T060000
END:STANDARD
BEGIN:DAYLIGHT
TZOFFSETFROM:-0500
TZOFFSETTO:-0400
TZNAME:EDT
DTSTART:20270314T070000
END:DAYLIGHT
BEGIN:STANDARD
TZOFFSETFROM:-0400
TZOFFSETTO:-0500
TZNAME:EST
DTSTART:20271107T060000
END:STANDARD
END:VTIMEZONE
BEGIN:VEVENT
DTSTART;TZID=America/New_York:20260201T130000
DTEND;TZID=America/New_York:20260201T143000
DTSTAMP:20260423T133156
CREATED:20251125T203455Z
LAST-MODIFIED:20260123T163239Z
UID:8884-1769950800-1769956200@sichildrensmuseum.org
SUMMARY:Practice Reading with a Pooch
DESCRIPTION:[vc_row content_placement=”middle”][vc_column width=”2/3″][vc_column_text css=””]Therapy dogs from Luv on a Leash are eager to hear stories read to them by our visitors. The dogs are well-trained\, registered\, and insured therapy dogs who love literature and will listen without judgement or comment. They hope to help children improve their reading ability\, build confidence and develop a life-long love of books. Visitors are welcome to bring their favorite reads. Event will take place over four\, 20 minutes sessions. 1:00 pm\, 1:20 pm\, 1:50 pm\, 2:10 pm \nLimited Availability. Only twelve spots are available per session\, please pick up an event pass at the front desk. First come\, first served.  \nIncluded with Admission.[/vc_column_text][/vc_column][vc_column width=”1/3″][vc_single_image source=”featured_image” img_size=”full”][/vc_column][/vc_row]
URL:https://sichildrensmuseum.org/event/practice-reading-with-a-pooch-10/
LOCATION:Staten Island Children’s Museum\, 1000 Richmond Terrace\, Building M\, Staten Island\, NY\, 10301\, United States
CATEGORIES:Event for Kids,Family Friendly,reading
ATTACH;FMTTYPE=image/png:https://sichildrensmuseum.org/wp-content/uploads/2023/03/PRWAP_Rhombus.png
ORGANIZER;CN="Staten Island Children's Museum":MAILTO:info@sichildrensmuseum.org
GEO:40.644743798098;-74.102321811388
X-APPLE-STRUCTURED-LOCATION;VALUE=URI;X-ADDRESS=Staten Island Children’s Museum 1000 Richmond Terrace Building M Staten Island NY 10301 United States;X-APPLE-RADIUS=500;X-TITLE=1000 Richmond Terrace\, Building M:geo:-74.102321811388,40.644743798098
END:VEVENT
BEGIN:VEVENT
DTSTART;TZID=America/New_York:20260207T120000
DTEND;TZID=America/New_York:20260207T160000
DTSTAMP:20260423T133156
CREATED:20251209T185647Z
LAST-MODIFIED:20260129T171843Z
UID:8894-1770465600-1770480000@sichildrensmuseum.org
SUMMARY:Pre-K and 3K for All FREE Admission Day
DESCRIPTION:[vc_row content_placement=”middle”][vc_column width=”2/3″][vc_column_text css=””]We are partnering with the Staten Island Alliance for North Shore Children & Families to offer free museum admission on Saturday\, February 7 from 12:00 pm to 4:00 pm\, as well as an early childhood development informational fair with representatives from city agencies and non-profit organizations who will provide resources for families and assist with Pre-K and 3K enrollment. \nKids can jump and burn off energy in a bounce house\, get hands-on in a Kidz Cook activity\, explore a mock preschool classroom designed to spark curiosity and confidence\, cozy up for storytime\, enjoy tasty snacks\, and some exciting giveaways to take home. \nFor free admission\, please register online ahead of event. [/vc_column_text][/vc_column][vc_column width=”1/3″][vc_single_image source=”featured_image” img_size=”full”][/vc_column][/vc_row][vc_row][vc_column][vc_btn title=”Pre-K For All Registration February 7\, 2026″ shape=”round” color=”violet” size=”lg” css=”” link=”url:https%3A%2F%2Fsichildrensmuseum.doubleknot.com%2Fopenrosters%2Favailableevents.aspx%3Forgkey%3D4834|title:PreK%20For%20All%202026|target:_blank”][/vc_column][/vc_row]
URL:https://sichildrensmuseum.org/event/pre-k-for-all-free-admission-day-2/
LOCATION:Staten Island Children’s Museum\, 1000 Richmond Terrace\, Building M\, Staten Island\, NY\, 10301\, United States
CATEGORIES:art,Art-Making,Cooking,Event for Kids,Family Friendly,Free,literacy,reading
ATTACH;FMTTYPE=image/png:https://sichildrensmuseum.org/wp-content/uploads/2025/12/pre-k-rhombus.png
GEO:40.644743798098;-74.102321811388
X-APPLE-STRUCTURED-LOCATION;VALUE=URI;X-ADDRESS=Staten Island Children’s Museum 1000 Richmond Terrace Building M Staten Island NY 10301 United States;X-APPLE-RADIUS=500;X-TITLE=1000 Richmond Terrace\, Building M:geo:-74.102321811388,40.644743798098
END:VEVENT
END:VCALENDAR